BEGIN:VCALENDAR
VERSION:2.0
PRODID:-//pretix//pretix.eu//
BEGIN:VTIMEZONE
TZID:Europe/Berlin
BEGIN:STANDARD
DTSTART:20001029T040000
RRULE:FREQ=YEARLY;BYDAY=-1SU;BYMONTH=10
TZNAME:CET
TZOFFSETFROM:+0200
TZOFFSETTO:+0100
END:STANDARD
BEGIN:DAYLIGHT
DTSTART:20000326T030000
RRULE:FREQ=YEARLY;BYDAY=-1SU;BYMONTH=3
TZNAME:CEST
TZOFFSETFROM:+0100
TZOFFSETTO:+0200
END:DAYLIGHT
END:VTIMEZONE
BEGIN:VEVENT
UID:pretix-lmuai-absolventenfeier2022-0@tickets.alumni.ifi.lmu.de
DTSTART;TZID=Europe/Berlin:20220519T173000
DTEND;TZID=Europe/Berlin:20220519T220000
DESCRIPTION:Tickets: https://tickets.alumni.ifi.lmu.de/absolventenfeier2022
 /\nVeranstalter: LMU Alumni Informatik e.V.
DTSTAMP:20260425T103910Z
LOCATION:Ludwig-Maximilians-Universität München\, Große Aula\, Geschwist
 er-Scholl-Platz 1\, 80539 München
SUMMARY:LMU Informatik Absolventenfeier 2022
END:VEVENT
END:VCALENDAR
